BEGIN:VCALENDAR
VERSION:2.0
PRODID:-//Sociedad Coral de Bilbao - ECPv5.3.2.1//NONSGML v1.0//EN
CALSCALE:GREGORIAN
METHOD:PUBLISH
X-WR-CALNAME:Sociedad Coral de Bilbao
X-ORIGINAL-URL:https://www.coraldebilbao.com
X-WR-CALDESC:Eventos para Sociedad Coral de Bilbao
BEGIN:VTIMEZONE
TZID:Europe/Madrid
BEGIN:DAYLIGHT
TZOFFSETFROM:+0100
TZOFFSETTO:+0200
TZNAME:CEST
DTSTART:20240331T010000
END:DAYLIGHT
BEGIN:STANDARD
TZOFFSETFROM:+0200
TZOFFSETTO:+0100
TZNAME:CET
DTSTART:20241027T010000
END:STANDARD
END:VTIMEZONE
BEGIN:VEVENT
DTSTART;TZID=Europe/Madrid:20240620T193000
DTEND;TZID=Europe/Madrid:20240620T210000
DTSTAMP:20260421T065133
CREATED:20240501T155609Z
LAST-MODIFIED:20240508T155653Z
UID:24596-1718911800-1718917200@www.coraldebilbao.com
SUMMARY:SATURRARAN I
DESCRIPTION:
URL:https://www.coraldebilbao.com/evento/saturraran1/
LOCATION:Teatro Arriaga\, Plaza Arriaga\, s/n\, Bilbao\, Bizkaia\, España
END:VEVENT
END:VCALENDAR