BEGIN:VCALENDAR
VERSION:2.0
PRODID:-//Sociedad Coral de Bilbao - ECPv5.3.2.1//NONSGML v1.0//EN
CALSCALE:GREGORIAN
METHOD:PUBLISH
X-WR-CALNAME:Sociedad Coral de Bilbao
X-ORIGINAL-URL:https://www.coraldebilbao.com
X-WR-CALDESC:Eventos para Sociedad Coral de Bilbao
BEGIN:VTIMEZONE
TZID:Europe/Madrid
BEGIN:DAYLIGHT
TZOFFSETFROM:+0100
TZOFFSETTO:+0200
TZNAME:CEST
DTSTART:20240331T010000
END:DAYLIGHT
BEGIN:STANDARD
TZOFFSETFROM:+0200
TZOFFSETTO:+0100
TZNAME:CET
DTSTART:20241027T010000
END:STANDARD
END:VTIMEZONE
BEGIN:VEVENT
DTSTART;TZID=Europe/Madrid:20240615T200000
DTEND;TZID=Europe/Madrid:20240615T210000
DTSTAMP:20260421T065327
CREATED:20240501T155922Z
LAST-MODIFIED:20240615T082828Z
UID:24605-1718481600-1718485200@www.coraldebilbao.com
SUMMARY:GAU ZURIA 2024
DESCRIPTION:BILBOKO KORAL ELKARTEA\n\nEuskeria Korua \nSop.: Ibone Sardón \nSop.: Naia Failde \nTen.: Carlos Rodríguez \nPianoa: Ander Marzana \nZuz.: Urko Sangroniz \n\nThe Road Home\, Tradicional / Arr.: S. Paulus \nMay it be\, E. N. Bhraonain\, N. Ryan\, R. Ryan \nBlack Hole Sun\, C. Cornell / Arr. S. Pietrangelo \nOld American Songs\, A. Copland \nSimple Gifts   \nThe Dodger  \n\nHaurren koruak | Coros infantiles \nPianoa: Ander Marzana \nZuz.: Jose Luis Ormazabal \n\nTutira mai\, Tradicional Maorí \nChacareando chacareras\, Silvia Malbrán \nOye\, Jim Papoulis \nUso zuria / Akerra ikusi degu\, Xabier Sarasola \nRock my soul – Bakea munduan\, Tradicional \n\nTUTTI \nSiyahamba\, Tradicional Sudáfrica
URL:https://www.coraldebilbao.com/evento/gauzuria2024/
END:VEVENT
END:VCALENDAR