BEGIN:VCALENDAR
VERSION:2.0
PRODID:-//Sociedad Coral de Bilbao - ECPv5.3.2.1//NONSGML v1.0//EN
CALSCALE:GREGORIAN
METHOD:PUBLISH
X-WR-CALNAME:Sociedad Coral de Bilbao
X-ORIGINAL-URL:https://www.coraldebilbao.com
X-WR-CALDESC:Eventos para Sociedad Coral de Bilbao
BEGIN:VTIMEZONE
TZID:Europe/Madrid
BEGIN:DAYLIGHT
TZOFFSETFROM:+0100
TZOFFSETTO:+0200
TZNAME:CEST
DTSTART:20240331T010000
END:DAYLIGHT
BEGIN:STANDARD
TZOFFSETFROM:+0200
TZOFFSETTO:+0100
TZNAME:CET
DTSTART:20241027T010000
END:STANDARD
END:VTIMEZONE
BEGIN:VEVENT
DTSTART;TZID=Europe/Madrid:20240601T113000
DTEND;TZID=Europe/Madrid:20240601T123000
DTSTAMP:20260421T065133
CREATED:20240501T145039Z
LAST-MODIFIED:20240508T145143Z
UID:24574-1717241400-1717245000@www.coraldebilbao.com
SUMMARY:BKG24 | BASURTO
DESCRIPTION:Eskolan kantari I
URL:https://www.coraldebilbao.com/evento/bkg24-basurto/
LOCATION:Capilla de la Santa y Real Casa de Misericordia de Bilbao\, Sabino Arana Etorbidea\, 2\, Bilbao\, 48013
END:VEVENT
BEGIN:VEVENT
DTSTART;TZID=Europe/Madrid:20240601T180000
DTEND;TZID=Europe/Madrid:20240601T190000
DTSTAMP:20260421T065133
CREATED:20240528T132707Z
LAST-MODIFIED:20240528T132707Z
UID:24652-1717264800-1717268400@www.coraldebilbao.com
SUMMARY:CORO ALEGRO - ARNEDILLO
DESCRIPTION:Coro Alegro\nDir.: Emma López \nCanticorum\, G.F. Haendel\nAve María\, J. Domínguez\nStabat Mater\, Z. Kodaly\nKantuz \, A. G. Lertxundi\nBaratze bat\, P.P. Berzaitz\nTxoria txori\, M. Laboa\nNow is the month\, T. Morley\nEl grillo\, J. Despres\nSin ti\, P. Guizar\nReloj\, R. Cantoral\nAgur jaunak\, Anónimo
URL:https://www.coraldebilbao.com/evento/coro-alegro-arnedillo/
LOCATION:Arnedillo\, Arnedillo
END:VEVENT
BEGIN:VEVENT
DTSTART;TZID=Europe/Madrid:20240601T200000
DTEND;TZID=Europe/Madrid:20240601T210000
DTSTAMP:20260421T065133
CREATED:20240515T132849Z
LAST-MODIFIED:20240528T145520Z
UID:24656-1717272000-1717275600@www.coraldebilbao.com
SUMMARY:Jesus Guridi Orkestra | Zornotza
DESCRIPTION:Jesus Guridi Orkestra\nZuz.: Aritz Labrador \n  \nDie Hebriden (Obertura) \, F. Mendelssohn-Bartholdy \nConcierto para trompeta y orquesta\, J. B. G. Neruda – Endika LópezZir\nI. Allegro \nConcierto para pianon y orquesta nº 23\, W. A. Mozart – Daniel Traas\nII. Adagio. \nSt. Paul Suite op. 29 nº 2 – Gustav Holst\n– I. Jig.\n– II. Ostinato.\n– III. Intermezzo.\n– IV. Finale. The Dargason. \nCuadros de una exposición – M. Mussorgsky / M. Ravel\n– Promenade.\n– Il vecchio castello.\n– Bydlo.\n– La Gran Puerta de Kiev.
URL:https://www.coraldebilbao.com/evento/jguridiork_zornotza/
LOCATION:Zornotza Aretoa\, Urbano Larruzea Kalea\, s/n\, Zornotza
END:VEVENT
END:VCALENDAR