BEGIN:VCALENDAR
VERSION:2.0
PRODID:-//Sociedad Coral de Bilbao - ECPv5.3.2.1//NONSGML v1.0//EN
CALSCALE:GREGORIAN
METHOD:PUBLISH
X-WR-CALNAME:Sociedad Coral de Bilbao
X-ORIGINAL-URL:https://www.coraldebilbao.com
X-WR-CALDESC:Eventos para Sociedad Coral de Bilbao
BEGIN:VTIMEZONE
TZID:Europe/Madrid
BEGIN:DAYLIGHT
TZOFFSETFROM:+0100
TZOFFSETTO:+0200
TZNAME:CEST
DTSTART:20240331T010000
END:DAYLIGHT
BEGIN:STANDARD
TZOFFSETFROM:+0200
TZOFFSETTO:+0100
TZNAME:CET
DTSTART:20241027T010000
END:STANDARD
END:VTIMEZONE
BEGIN:VEVENT
DTSTART;TZID=Europe/Madrid:20240508T200000
DTEND;TZID=Europe/Madrid:20240508T210000
DTSTAMP:20260421T081323
CREATED:20240415T095157Z
LAST-MODIFIED:20240508T103623Z
UID:24555-1715198400-1715202000@www.coraldebilbao.com
SUMMARY:Chillida & Ciaccona
DESCRIPTION:Iñaki Alberdi\, akordeoia | acordeón\nBilboko Koral Elkartea | Sociedad Coral de Bilbao\nEnrique Azurza\, zuzendaritza | dirección \nJohann Sebastian Bach\nSarabande – Suite VI Re M\nChrist lag in Todesbanden\nDein Will gescheh \nSofia Gubaidulina\nDe profundis \nJohann Sebastian Bach\nBefiehl du deine Wege\nJesu\, meine Freude\nGavotte – Suite VI Re M\nAuf meinen lieben Gott\nJesu\, deine Passion\nNun lob’\, mein Seel\, den Herren\nIn meines Herzens Grunde \nKnut Nystedt\nImmortal Bach \nSofía Gubaidulina\nKadenza \nJohann Sebastian Bach\nDen Tod & Christ lag in Todesbanden\nChaconne BWV 1004\n[egokitzapena: | arreglo de Javier Quislant]
URL:https://www.coraldebilbao.com/evento/chillida-ciaccona_guggeneheim/
LOCATION:Museo Guggenheim\, Avenida Abandoibarra\, 2\, Bilbao
END:VEVENT
END:VCALENDAR