BEGIN:VCALENDAR
VERSION:2.0
PRODID:-//Sociedad Coral de Bilbao - ECPv5.3.2.1//NONSGML v1.0//EN
CALSCALE:GREGORIAN
METHOD:PUBLISH
X-WR-CALNAME:Sociedad Coral de Bilbao
X-ORIGINAL-URL:https://www.coraldebilbao.com
X-WR-CALDESC:Eventos para Sociedad Coral de Bilbao
BEGIN:VTIMEZONE
TZID:Europe/Madrid
BEGIN:DAYLIGHT
TZOFFSETFROM:+0100
TZOFFSETTO:+0200
TZNAME:CEST
DTSTART:20220327T010000
END:DAYLIGHT
BEGIN:STANDARD
TZOFFSETFROM:+0200
TZOFFSETTO:+0100
TZNAME:CET
DTSTART:20221030T010000
END:STANDARD
END:VTIMEZONE
BEGIN:VEVENT
DTSTART;TZID=Europe/Madrid:20221221T193000
DTEND;TZID=Europe/Madrid:20221221T200000
DTSTAMP:20260422T171848
CREATED:20221101T160754Z
LAST-MODIFIED:20221201T160949Z
UID:22728-1671651000-1671652800@www.coraldebilbao.com
SUMMARY:ESKOLAN KANTARI | BBK KUNA
DESCRIPTION:
URL:https://www.coraldebilbao.com/evento/ek-bbk2122/
LOCATION:BBK Kuna\, Urazurrutia Kalea\, 3\,\, Bilbao\, Bizkaia\, 48003
ATTACH;FMTTYPE=image/jpeg:https://www.coraldebilbao.com/wp-content/uploads/2022/12/PROPUESTAS-2.jpg
END:VEVENT
END:VCALENDAR