BEGIN:VCALENDAR
VERSION:2.0
PRODID:-//Sociedad Coral de Bilbao - ECPv5.3.2.1//NONSGML v1.0//EN
CALSCALE:GREGORIAN
METHOD:PUBLISH
X-WR-CALNAME:Sociedad Coral de Bilbao
X-ORIGINAL-URL:https://www.coraldebilbao.com
X-WR-CALDESC:Eventos para Sociedad Coral de Bilbao
BEGIN:VTIMEZONE
TZID:Europe/Madrid
BEGIN:DAYLIGHT
TZOFFSETFROM:+0100
TZOFFSETTO:+0200
TZNAME:CEST
DTSTART:20220327T010000
END:DAYLIGHT
BEGIN:STANDARD
TZOFFSETFROM:+0200
TZOFFSETTO:+0100
TZNAME:CET
DTSTART:20221030T010000
END:STANDARD
END:VTIMEZONE
BEGIN:VEVENT
DTSTART;TZID=Europe/Madrid:20221220T120000
DTEND;TZID=Europe/Madrid:20221220T130000
DTSTAMP:20260422T143419
CREATED:20221201T171721Z
LAST-MODIFIED:20221209T171816Z
UID:22778-1671537600-1671541200@www.coraldebilbao.com
SUMMARY:GABONAK | IBERDROLA
DESCRIPTION:
URL:https://www.coraldebilbao.com/evento/gabonak-iberdrola/
LOCATION:Torre Iberdrola\, Plaza de Euskadi \, 5\, Bilbao\, Bizkaia\, 48009\, España
END:VEVENT
BEGIN:VEVENT
DTSTART;TZID=Europe/Madrid:20221220T193000
DTEND;TZID=Europe/Madrid:20221220T203000
DTSTAMP:20260422T143419
CREATED:20221101T160250Z
LAST-MODIFIED:20221201T160548Z
UID:22715-1671564600-1671568200@www.coraldebilbao.com
SUMMARY:NEGUKO DISTIRAK
DESCRIPTION:Neguko distirak \nEñaut Elorrieta\nIdoia Asurmendi\nAbendmusik Orkestra\nBilboko Koral Elkartea\nFernando Velázquez \nMendigoxaliarena\nEz dago ezer\nAulki jokoa\nViejo Refranero\nDeserriko kontradantza\nArgixagi ederra\nLo kanta\nHitzetan\nVerde\nHarbide zilar bat\nNoizbait\nNi naiz\nEguzki argitan\n25. Artikulua
URL:https://www.coraldebilbao.com/evento/negukodistirak-bm/
LOCATION:Palacio Euskalduna\,  Avda. Abandoibarra\, 4\, Bilbao\, 48011
ATTACH;FMTTYPE=image/jpeg:https://www.coraldebilbao.com/wp-content/uploads/2022/12/IMG_5452.jpg
END:VEVENT
END:VCALENDAR