BEGIN:VCALENDAR
VERSION:2.0
PRODID:-//Sociedad Coral de Bilbao - ECPv5.3.2.1//NONSGML v1.0//EN
CALSCALE:GREGORIAN
METHOD:PUBLISH
X-WR-CALNAME:Sociedad Coral de Bilbao
X-ORIGINAL-URL:https://www.coraldebilbao.com
X-WR-CALDESC:Eventos para Sociedad Coral de Bilbao
BEGIN:VTIMEZONE
TZID:Europe/Madrid
BEGIN:DAYLIGHT
TZOFFSETFROM:+0100
TZOFFSETTO:+0200
TZNAME:CEST
DTSTART:20210328T010000
END:DAYLIGHT
BEGIN:STANDARD
TZOFFSETFROM:+0200
TZOFFSETTO:+0100
TZNAME:CET
DTSTART:20211031T010000
END:STANDARD
END:VTIMEZONE
BEGIN:VEVENT
DTSTART;TZID=Europe/Madrid:20211016T193000
DTEND;TZID=Europe/Madrid:20211016T203000
DTSTAMP:20260422T035201
CREATED:20210922T091723Z
LAST-MODIFIED:20210922T102210Z
UID:21535-1634412600-1634416200@www.coraldebilbao.com
SUMMARY:BKG Abando
DESCRIPTION:Orquesta Jesús Guridi\nDir.: Mario Martín\n\nPalladio\, Karl Jenkins\nKoral bat gara\, Xabier Sarasola\nAck Värmeland du skone\, popular\nI Himmelen\, Edvard Grieg\nRecuerdos de la Alhambra\, Francisco Tárrega\nMaite\, Pablo Sorozábal\nTres melodías escocesas\, popular\nIntermezzo (Cavalleria Rusticana)\, Pietro Mascagni
URL:https://www.coraldebilbao.com/evento/bkgabando/
LOCATION:Iglesia de San Vicente Mártir\, Done Bikendi Plaza\, 3\, Bilbao\, Bizkaia\, 48001
ATTACH;FMTTYPE=image/jpeg:https://www.coraldebilbao.com/wp-content/uploads/2021/09/preview-CARTEL16-ABANDO-scaled.jpg
END:VEVENT
BEGIN:VEVENT
DTSTART;TZID=Europe/Madrid:20211016T200000
DTEND;TZID=Europe/Madrid:20211016T210000
DTSTAMP:20260422T035201
CREATED:20210901T123257Z
LAST-MODIFIED:20210929T125957Z
UID:21578-1634414400-1634418000@www.coraldebilbao.com
SUMMARY:Euskeria + Rafa Rueda | Mungia
DESCRIPTION:
URL:https://www.coraldebilbao.com/evento/rafarueda-mungia/
LOCATION:Olalde Aretoa\, Olalde beresia s/n\, Mungia\, 48100
END:VEVENT
END:VCALENDAR