BEGIN:VCALENDAR
VERSION:2.0
PRODID:-//Sociedad Coral de Bilbao - ECPv5.3.2.1//NONSGML v1.0//EN
CALSCALE:GREGORIAN
METHOD:PUBLISH
X-WR-CALNAME:Sociedad Coral de Bilbao
X-ORIGINAL-URL:https://www.coraldebilbao.com
X-WR-CALDESC:Eventos para Sociedad Coral de Bilbao
BEGIN:VTIMEZONE
TZID:Europe/Paris
BEGIN:DAYLIGHT
TZOFFSETFROM:+0100
TZOFFSETTO:+0200
TZNAME:CEST
DTSTART:20170326T010000
END:DAYLIGHT
BEGIN:STANDARD
TZOFFSETFROM:+0200
TZOFFSETTO:+0100
TZNAME:CET
DTSTART:20171029T010000
END:STANDARD
END:VTIMEZONE
BEGIN:VEVENT
DTSTART;TZID=Europe/Paris:20170305T001500
DTEND;TZID=Europe/Paris:20170305T130000
DTSTAMP:20260425T125222
CREATED:20170208T113049Z
LAST-MODIFIED:20170208T113242Z
UID:16105-1488672900-1488718800@www.coraldebilbao.com
SUMMARY:Musika-Música
DESCRIPTION:“Polka en Re M” A. Dvorak\nAne Pocino\, piano\n“Leyenda Op. 59 nº 1” A. Dvorak\nAdrián Fernández y Mónica Sangrador\, piano\n“Impresión poética” A. Dvorak\nAinhize Lekerika\, piano\n“Sonatina Op. 100” A. Dvorak\nÁngela García\, piano y Mikel Fernández de Gamboa\, trompa\n“Bagatelas Op. 47” A. Dvorak\nEider Armendariz\, violín; Telmo Briones\, cello; Naia Duñabeitia\, flauta;\nMikel Ezkurra\, Piano
URL:https://www.coraldebilbao.com/evento/musika-musica-12/
LOCATION:Palacio Euskalduna\, Avenida Abandoibarra\, 4\, Bilbao\, 48013
ATTACH;FMTTYPE=image/jpeg:https://www.coraldebilbao.com/wp-content/uploads/2017/02/pianos.jpg
END:VEVENT
BEGIN:VEVENT
DTSTART;TZID=Europe/Paris:20170305T170000
DTEND;TZID=Europe/Paris:20170305T182000
DTSTAMP:20260425T125222
CREATED:20170208T112410Z
LAST-MODIFIED:20170208T112427Z
UID:16102-1488733200-1488738000@www.coraldebilbao.com
SUMMARY:Musika-Música
DESCRIPTION:«Stabat Mater» A. Dvorak\nSolistas: Miren Urbieta\, soprano\nGustavo Peña\, barítono\nCORAL DE BILBAO\nORQUESTA SINFÓNICA DEL PRINCIPADO DE ASTURIAS\nPERRY SO\, Director
URL:https://www.coraldebilbao.com/evento/16102/
LOCATION:Palacio Euskalduna\, Avenida Abandoibarra\, 4\, Bilbao\, 48013
ATTACH;FMTTYPE=image/jpeg:https://www.coraldebilbao.com/wp-content/uploads/2017/02/Cartel_Musika_Música_2017_A2.jpg
END:VEVENT
BEGIN:VEVENT
DTSTART;TZID=Europe/Paris:20170305T200000
DTEND;TZID=Europe/Paris:20170305T204000
DTSTAMP:20260425T125222
CREATED:20170208T114032Z
LAST-MODIFIED:20170208T114032Z
UID:16111-1488744000-1488746400@www.coraldebilbao.com
SUMMARY:Musika-Música
DESCRIPTION:“Serenada para cuerda op.22\, 1º mov” A. Dvorak\n“Humoresque” A. Dvorak\nLeire Ibáñez\, violín\nNerea Pujana\, viola\n“Canciones de un caminante” G. Mahler\nBarítono: Gexan Etxabe\n“Danza eslava nº 2” A. Dvorak\n“Canción a la luna de la opera Rusalka” A. Dvorak\nSoprano: Olga Revuelta\n“Suit op. 98 \, “Americana”\,1º mov y final” A. Dvorak\nORQUESTA JESÚS GURIDI DE LA CORAL DE BILBAO\nRADU HAMZEA\, Director
URL:https://www.coraldebilbao.com/evento/musika-musica-14/
LOCATION:Palacio Euskalduna\, Avenida Abandoibarra\, 4\, Bilbao\, 48013
ATTACH;FMTTYPE=image/jpeg:https://www.coraldebilbao.com/wp-content/uploads/2017/02/pagina-6-2.jpg
END:VEVENT
END:VCALENDAR