BEGIN:VCALENDAR
VERSION:2.0
PRODID:-//Sociedad Coral de Bilbao - ECPv5.3.2.1//NONSGML v1.0//EN
CALSCALE:GREGORIAN
METHOD:PUBLISH
X-WR-CALNAME:Sociedad Coral de Bilbao
X-ORIGINAL-URL:https://www.coraldebilbao.com
X-WR-CALDESC:Eventos para Sociedad Coral de Bilbao
BEGIN:VTIMEZONE
TZID:Europe/Madrid
BEGIN:DAYLIGHT
TZOFFSETFROM:+0100
TZOFFSETTO:+0200
TZNAME:CEST
DTSTART:20240331T010000
END:DAYLIGHT
BEGIN:STANDARD
TZOFFSETFROM:+0200
TZOFFSETTO:+0100
TZNAME:CET
DTSTART:20241027T010000
END:STANDARD
END:VTIMEZONE
BEGIN:VEVENT
DTSTART;TZID=Europe/Madrid:20240607T183000
DTEND;TZID=Europe/Madrid:20240607T193000
DTSTAMP:20260421T070620
CREATED:20240501T145756Z
LAST-MODIFIED:20240508T151818Z
UID:24577-1717785000-1717788600@www.coraldebilbao.com
SUMMARY:BKG24 | SANTUTXU
DESCRIPTION:Eskolan kantari II
URL:https://www.coraldebilbao.com/evento/bkg24-santutxu/
LOCATION:Ángeles Custodios\, Zabalbide kalea\, 21\, 48006
END:VEVENT
END:VCALENDAR