BEGIN:VCALENDAR
VERSION:2.0
PRODID:-//Sociedad Coral de Bilbao - ECPv5.3.2.1//NONSGML v1.0//EN
CALSCALE:GREGORIAN
METHOD:PUBLISH
X-WR-CALNAME:Sociedad Coral de Bilbao
X-ORIGINAL-URL:https://www.coraldebilbao.com
X-WR-CALDESC:Eventos para Sociedad Coral de Bilbao
BEGIN:VTIMEZONE
TZID:Europe/Madrid
BEGIN:DAYLIGHT
TZOFFSETFROM:+0100
TZOFFSETTO:+0200
TZNAME:CEST
DTSTART:20240331T010000
END:DAYLIGHT
BEGIN:STANDARD
TZOFFSETFROM:+0200
TZOFFSETTO:+0100
TZNAME:CET
DTSTART:20241027T010000
END:STANDARD
END:VTIMEZONE
BEGIN:VEVENT
DTSTART;TZID=Europe/Madrid:20240601T113000
DTEND;TZID=Europe/Madrid:20240601T123000
DTSTAMP:20260421T065816
CREATED:20240501T145039Z
LAST-MODIFIED:20240508T145143Z
UID:24574-1717241400-1717245000@www.coraldebilbao.com
SUMMARY:BKG24 | BASURTO
DESCRIPTION:Eskolan kantari I
URL:https://www.coraldebilbao.com/evento/bkg24-basurto/
LOCATION:Capilla de la Santa y Real Casa de Misericordia de Bilbao\, Sabino Arana Etorbidea\, 2\, Bilbao\, 48013
END:VEVENT
END:VCALENDAR