BEGIN:VCALENDAR
VERSION:2.0
PRODID:-//Sociedad Coral de Bilbao - ECPv5.3.2.1//NONSGML v1.0//EN
CALSCALE:GREGORIAN
METHOD:PUBLISH
X-WR-CALNAME:Sociedad Coral de Bilbao
X-ORIGINAL-URL:https://www.coraldebilbao.com
X-WR-CALDESC:Eventos para Sociedad Coral de Bilbao
BEGIN:VTIMEZONE
TZID:Europe/Madrid
BEGIN:DAYLIGHT
TZOFFSETFROM:+0100
TZOFFSETTO:+0200
TZNAME:CEST
DTSTART:20240331T010000
END:DAYLIGHT
BEGIN:STANDARD
TZOFFSETFROM:+0200
TZOFFSETTO:+0100
TZNAME:CET
DTSTART:20241027T010000
END:STANDARD
END:VTIMEZONE
BEGIN:VEVENT
DTSTART;TZID=Europe/Madrid:20241211T200000
DTEND;TZID=Europe/Madrid:20241211T210000
DTSTAMP:20260421T151756
CREATED:20241201T185656Z
LAST-MODIFIED:20241209T185807Z
UID:25002-1733947200-1733950800@www.coraldebilbao.com
SUMMARY:AULA CANTO BBAA
DESCRIPTION:
URL:https://www.coraldebilbao.com/evento/aulacanto_bbaa2024/
LOCATION:Museo Bellas Artes Bilbao
END:VEVENT
END:VCALENDAR