BEGIN:VCALENDAR
VERSION:2.0
PRODID:-//Sociedad Coral de Bilbao - ECPv5.3.2.1//NONSGML v1.0//EN
CALSCALE:GREGORIAN
METHOD:PUBLISH
X-WR-CALNAME:Sociedad Coral de Bilbao
X-ORIGINAL-URL:https://www.coraldebilbao.com
X-WR-CALDESC:Eventos para Sociedad Coral de Bilbao
BEGIN:VTIMEZONE
TZID:Europe/Madrid
BEGIN:DAYLIGHT
TZOFFSETFROM:+0100
TZOFFSETTO:+0200
TZNAME:CEST
DTSTART:20240331T010000
END:DAYLIGHT
BEGIN:STANDARD
TZOFFSETFROM:+0200
TZOFFSETTO:+0100
TZNAME:CET
DTSTART:20241027T010000
END:STANDARD
END:VTIMEZONE
BEGIN:VEVENT
DTSTART;TZID=Europe/Madrid:20240528T080000
DTEND;TZID=Europe/Madrid:20240528T170000
DTSTAMP:20260421T070812
CREATED:20240501T150130Z
LAST-MODIFIED:20240528T151528Z
UID:24663-1716883200-1716915600@www.coraldebilbao.com
SUMMARY:Artearen ahotsak 2024
DESCRIPTION:Coro Infantil SCB\nZuz.: Jose Luis Ormazabal\nPianoa: Miguel N’ Dong \nTutira mai | Tradicional Maorí\nBaloo Baleerie | Tradicional Escocia. Arr.: Ruth Elaine Schram\nSanctus | Richard Oswin\nLand of the Silver Birch | Tradicional Canada\nI Will | John Lennon & Paul McCartney\nIntxauspeko alaba | Tomás Garbizu\nOtra vez la Primavera | Jesús Guridi\nChacareando chacareras | Silvia Malbrán\nUso zuria/Akerra ikusi degu | Xabier Sarasola\nVem kan segla förutan vind | Tradicional Suecia\nOye | Jim Papoulis
URL:https://www.coraldebilbao.com/evento/artearenahotsak2024/
LOCATION:Museo Bellas Artes Bilbao
END:VEVENT
END:VCALENDAR