BEGIN:VCALENDAR
VERSION:2.0
PRODID:-//Bilboko Koral Elkartea - ECPv5.3.2.1//NONSGML v1.0//EN
CALSCALE:GREGORIAN
METHOD:PUBLISH
X-WR-CALNAME:Bilboko Koral Elkartea
X-ORIGINAL-URL:https://www.coraldebilbao.com/eu/
X-WR-CALDESC:Events for Bilboko Koral Elkartea
BEGIN:VTIMEZONE
TZID:Europe/Madrid
BEGIN:DAYLIGHT
TZOFFSETFROM:+0100
TZOFFSETTO:+0200
TZNAME:CEST
DTSTART:20240331T010000
END:DAYLIGHT
BEGIN:STANDARD
TZOFFSETFROM:+0200
TZOFFSETTO:+0100
TZNAME:CET
DTSTART:20241027T010000
END:STANDARD
END:VTIMEZONE
BEGIN:VEVENT
DTSTART;TZID=Europe/Madrid:20241025T190000
DTEND;TZID=Europe/Madrid:20241025T230000
DTSTAMP:20260421T082350
CREATED:20241001T105419Z
LAST-MODIFIED:20241009T105859Z
UID:24918-1729882800-1729897200@www.coraldebilbao.com
SUMMARY:UBB 2024 | 1
DESCRIPTION:
URL:https://www.coraldebilbao.com/eu/evento/ubb2024-1/
LOCATION:BEC\, Azkue Kalea\, 1\,\, Barakaldo\, 48902
END:VEVENT
END:VCALENDAR