BEGIN:VCALENDAR
VERSION:2.0
PRODID:-//Bilboko Koral Elkartea - ECPv5.3.2.1//NONSGML v1.0//EN
CALSCALE:GREGORIAN
METHOD:PUBLISH
X-WR-CALNAME:Bilboko Koral Elkartea
X-ORIGINAL-URL:https://www.coraldebilbao.com/eu/
X-WR-CALDESC:Events for Bilboko Koral Elkartea
BEGIN:VTIMEZONE
TZID:Europe/Madrid
BEGIN:DAYLIGHT
TZOFFSETFROM:+0100
TZOFFSETTO:+0200
TZNAME:CEST
DTSTART:20240331T010000
END:DAYLIGHT
BEGIN:STANDARD
TZOFFSETFROM:+0200
TZOFFSETTO:+0100
TZNAME:CET
DTSTART:20241027T010000
END:STANDARD
END:VTIMEZONE
BEGIN:VEVENT
DTSTART;TZID=Europe/Madrid:20240518T110000
DTEND;TZID=Europe/Madrid:20240518T140000
DTSTAMP:20260421T093109
CREATED:20240501T155447Z
LAST-MODIFIED:20240508T155602Z
UID:24594-1716030000-1716040800@www.coraldebilbao.com
SUMMARY:MUSIKA JAIA 2024
DESCRIPTION:
URL:https://www.coraldebilbao.com/eu/evento/musikajaia_2024/
LOCATION:Sociedad Coral de Bilbao\, Felipe Serrate\, 2\, Bilbao\, Bizkaia\, 48013\, España
ORGANIZER;CN="Sociedad%20Coral%20de%20Bilbao":MAILTO:info@coraldebilbao.com
END:VEVENT
BEGIN:VEVENT
DTSTART;TZID=Europe/Madrid:20240518T180000
DTEND;TZID=Europe/Madrid:20240518T190000
DTSTAMP:20260421T093109
CREATED:20240501T144336Z
LAST-MODIFIED:20240501T144336Z
UID:24565-1716055200-1716058800@www.coraldebilbao.com
SUMMARY:BKG24 | ZABALA
DESCRIPTION:Euskeria + Alegro
URL:https://www.coraldebilbao.com/eu/evento/bkg24-zabala/
LOCATION:Iglesia de la Residencia Conde Aresti\, Bruno Mauricio Zabala\, 22\, Bilbao\, Bizkaia\, 48003\, España
END:VEVENT
END:VCALENDAR