BEGIN:VCALENDAR
VERSION:2.0
PRODID:-//Bilboko Koral Elkartea - ECPv5.3.2.1//NONSGML v1.0//EN
CALSCALE:GREGORIAN
METHOD:PUBLISH
X-WR-CALNAME:Bilboko Koral Elkartea
X-ORIGINAL-URL:https://www.coraldebilbao.com/eu/
X-WR-CALDESC:Events for Bilboko Koral Elkartea
BEGIN:VTIMEZONE
TZID:Europe/Madrid
BEGIN:DAYLIGHT
TZOFFSETFROM:+0100
TZOFFSETTO:+0200
TZNAME:CEST
DTSTART:20240331T010000
END:DAYLIGHT
BEGIN:STANDARD
TZOFFSETFROM:+0200
TZOFFSETTO:+0100
TZNAME:CET
DTSTART:20241027T010000
END:STANDARD
END:VTIMEZONE
BEGIN:VEVENT
DTSTART;TZID=Europe/Madrid:20240427T200000
DTEND;TZID=Europe/Madrid:20240427T210000
DTSTAMP:20260421T110459
CREATED:20240401T155249Z
LAST-MODIFIED:20240401T155249Z
UID:24505-1714248000-1714251600@www.coraldebilbao.com
SUMMARY:Réquiem X Fauré
DESCRIPTION:Sociedad Coral de Bilbao\nSoprano: Sonia Delgado\nBarítono: Sabas Balanzategi\nÓrgano: Alberto Sáez-Puente\nDirección: Enrique Azurza\n\nRequiem Op. 48\, Gabriel Fauré
URL:https://www.coraldebilbao.com/eu/evento/requiemfaure_estella/
LOCATION:Iglesia San Juan Bautista\, Calle Mayor\, 46\, Estella\, Navarra\, 31200
END:VEVENT
END:VCALENDAR