BEGIN:VCALENDAR
VERSION:2.0
PRODID:-//Bilboko Koral Elkartea - ECPv5.3.2.1//NONSGML v1.0//EN
CALSCALE:GREGORIAN
METHOD:PUBLISH
X-WR-CALNAME:Bilboko Koral Elkartea
X-ORIGINAL-URL:https://www.coraldebilbao.com/eu/
X-WR-CALDESC:Events for Bilboko Koral Elkartea
BEGIN:VTIMEZONE
TZID:Europe/Madrid
BEGIN:DAYLIGHT
TZOFFSETFROM:+0100
TZOFFSETTO:+0200
TZNAME:CEST
DTSTART:20240331T010000
END:DAYLIGHT
BEGIN:STANDARD
TZOFFSETFROM:+0200
TZOFFSETTO:+0100
TZNAME:CET
DTSTART:20241027T010000
END:STANDARD
END:VTIMEZONE
BEGIN:VEVENT
DTSTART;TZID=Europe/Madrid:20240423T190000
DTEND;TZID=Europe/Madrid:20240423T200000
DTSTAMP:20260421T105648
CREATED:20240401T124745Z
LAST-MODIFIED:20240422T125233Z
UID:24502-1713898800-1713902400@www.coraldebilbao.com
SUMMARY:Hitzak eta notak
DESCRIPTION:Liburuaren Eguna entzunaldia \nIrak.: Marijose Zalbide \n  \n\nLa elegancia del erizo – M. Barberi\nMikel Atín (viola): An die Musik – F. Schubert\n\n  \n\nEl maravilloso mago de Oz – L. F. Baum\nAiora Fernández (violín): Over the Rainbow – H. Arlen\n\n  \n\nLa Leyenda de Sleepy Hollow – W. Irving\nJulen Uriaguereca (contrabajo): Cavalryman – D. Kabalevsky\n\n  \n\nLa nieta del señor Linh – P. Claudel\nSofía Larrazabal (violín) y Oriol Larrazabal (cello): Wiegenlied –    Jewstügow\n\n  \n\nLa comunidad del anillo – J. R. R. Tolkien\nAne Mateo (violín): In dreams – H. Shore\n\n  \n\nMarch of the monk´s of Bangor – W. Scott\nUrko Mínguez (trompeta): The Monk of Bangor´s \n\nMarch – L. v. Beethoven \n  \n  \n\nEl libro del desasosiego – F. Pessoa\nPablo García (oboe): Adagio del cuarteto K. 370 – W. A. Mozart\n\n  \n\nSoneto XVIII – W. Shakespeare\nUnai Atín (flauta): Greensleeves – Tradicional\n\n  \n\nMemorian – G. Mendibil\nIzaro Ortiz (viola): Amorosa – J. Guridi\n\n  \n\nGuerra y paz – L. Tolstói\nJune Escobés (violín): Romance – D. Shostakovich\n\n  \n\nCómo piensan los niños y otros recuerdos de mi vida – H. Miyazaki\nDaniel Herrero (violín) y Unax Pedrero (clarinete): Kimi Wo Nosete (de la película El castillo en el cielo de H. Miyazaki) – J. Hisaishi\n\n  \n\nPoema al No – G. Fuertes
URL:https://www.coraldebilbao.com/eu/evento/dialibro2024/
LOCATION:Sociedad Coral de Bilbao\, Felipe Serrate\, 2\, Bilbao\, Bizkaia\, 48013\, España
END:VEVENT
END:VCALENDAR