BEGIN:VCALENDAR
VERSION:2.0
PRODID:-//Bilboko Koral Elkartea - ECPv5.3.2.1//NONSGML v1.0//EN
CALSCALE:GREGORIAN
METHOD:PUBLISH
X-WR-CALNAME:Bilboko Koral Elkartea
X-ORIGINAL-URL:https://www.coraldebilbao.com/eu/
X-WR-CALDESC:Events for Bilboko Koral Elkartea
BEGIN:VTIMEZONE
TZID:Europe/Madrid
BEGIN:DAYLIGHT
TZOFFSETFROM:+0100
TZOFFSETTO:+0200
TZNAME:CEST
DTSTART:20220327T010000
END:DAYLIGHT
BEGIN:STANDARD
TZOFFSETFROM:+0200
TZOFFSETTO:+0100
TZNAME:CET
DTSTART:20221030T010000
END:STANDARD
END:VTIMEZONE
BEGIN:VEVENT
DTSTART;TZID=Europe/Madrid:20221223T193000
DTEND;TZID=Europe/Madrid:20221223T203000
DTSTAMP:20260422T190659
CREATED:20221101T161240Z
LAST-MODIFIED:20221223T145329Z
UID:22742-1671823800-1671827400@www.coraldebilbao.com
SUMMARY:GABONAK | GORABIDE
DESCRIPTION:We wish you a Merry Christmas\, Tradicional inglesa \nSopas le hicieron al niño\, Pop. Jaén \nTan Tan\, Pop. Aragón \nHacia Belén\, Pop. Andalucía \nDeck the hall\, Trad. Galesa \nHator Hator\, Pop. Vasca \nCampana sobre campana\, Trad. Español \nEl tamborilero\, Henry Onorati / Harry Simeone \nBlanca Navidad\, Irving Berlin \nEl burrito sabanero\, Hugo Blanco
URL:https://www.coraldebilbao.com/eu/evento/gorabide-gabonak22/
LOCATION:Sociedad Coral de Bilbao\, Felipe Serrate\, 2\, Bilbao\, Bizkaia\, 48013\, España
ORGANIZER;CN="Sociedad%20Coral%20de%20Bilbao":MAILTO:info@coraldebilbao.com
END:VEVENT
BEGIN:VEVENT
DTSTART;TZID=Europe/Madrid:20221223T200000
DTEND;TZID=Europe/Madrid:20221223T210000
DTSTAMP:20260422T190659
CREATED:20221101T161650Z
LAST-MODIFIED:20221202T131749Z
UID:22746-1671825600-1671829200@www.coraldebilbao.com
SUMMARY:ARTEAREN AHOTSAK
DESCRIPTION:Bilboko Koral Elkarteko kantu gela \nPianoa: Alberto Sáez Puente \nIrakaslea: Marta Ubieta \n\nDavid Von Heeren (Tenor) \nVaga luna che inargenti\, Vincenzo Bellini \n\nMarian Méndez (Mezzosoprano) \nSe tu m’ami\, Giovanni Battista Pergolesi \n\nUxue Rojas (Soprano) \nLe Violette\, Alessandro Scarlatti \n\nRaquel Martínez (Soprano) \nMarinela\, Marinela\, José Serrano \n\nSabas Balanzategi (Barítono) \nSe il cor guerriero (Tito Manlio)\, Antonio Vivaldi \n\nElisa Aurre (Mezzo Soprano) \nVoi che sapete (Le nozze di Figaro)\, Wolfgang Amadeus Mozart \n\nMaialen Díez (Soprano) \nQuando m’en vó (La Bohème)\, Giacomo Puccini \n\nJordi Martinez (Tenor) \nYo no sé qué veo en Ana Mari (El Caserío)\, Jesús Guridi \n\nEstibaliz Sánchez (Soprano) \nAh mio cor (Alcina)\, Georg Friedrich Händel \n  \nAritz Lekerika (Barítono) \nNotte e giorno faticar (Don Giovanni)\, Wolfgang Amadeus Mozart \n\nPatricia Intxaustegi (Soprano) \nChacun le sait (La fille du régiment)\, Gaetano Donizetti \n\nSabas Balanzategi – Maialen Díez (Barítono – Soprano) \nLa ci darem la mano (Don Giovanni)\, Wolfgang Amadeus Mozart \n\nEstibaliz Sánchez (Soprano) \nVals de Julieta (Romeo y Julieta)\, Charles Gounod
URL:https://www.coraldebilbao.com/eu/evento/bbaa-gabonak22/
LOCATION:Museo de Bellas Artes de Bilbao\, Plaza Museo\, 2\, Bilbao\, 48009
END:VEVENT
BEGIN:VEVENT
DTSTART;TZID=Europe/Madrid:20221223T200000
DTEND;TZID=Europe/Madrid:20221223T210000
DTSTAMP:20260422T190659
CREATED:20221201T171413Z
LAST-MODIFIED:20221209T171703Z
UID:22772-1671825600-1671829200@www.coraldebilbao.com
SUMMARY:ZARATAMO | JESÚS GURIDI ORKESTRA
DESCRIPTION:
URL:https://www.coraldebilbao.com/eu/evento/zaratamo-jesusguridi/
LOCATION:Iglesia San de San Lorenzo de Elexalde\, Barrio de Elejalde\, 13\, Zarátamo\, Bizkaia\, 48480
ATTACH;FMTTYPE=image/jpeg:https://www.coraldebilbao.com/wp-content/uploads/2022/12/ZARATAMO-1.jpg
END:VEVENT
END:VCALENDAR