BEGIN:VCALENDAR
VERSION:2.0
PRODID:-//Bilboko Koral Elkartea - ECPv5.3.2.1//NONSGML v1.0//EN
CALSCALE:GREGORIAN
METHOD:PUBLISH
X-WR-CALNAME:Bilboko Koral Elkartea
X-ORIGINAL-URL:https://www.coraldebilbao.com/eu/
X-WR-CALDESC:Events for Bilboko Koral Elkartea
BEGIN:VTIMEZONE
TZID:Europe/Madrid
BEGIN:DAYLIGHT
TZOFFSETFROM:+0100
TZOFFSETTO:+0200
TZNAME:CEST
DTSTART:20220327T010000
END:DAYLIGHT
BEGIN:STANDARD
TZOFFSETFROM:+0200
TZOFFSETTO:+0100
TZNAME:CET
DTSTART:20221030T010000
END:STANDARD
END:VTIMEZONE
BEGIN:VEVENT
DTSTART;TZID=Europe/Madrid:20221222T193000
DTEND;TZID=Europe/Madrid:20221222T200000
DTSTAMP:20260422T212939
CREATED:20221101T161017Z
LAST-MODIFIED:20221201T161155Z
UID:22738-1671737400-1671739200@www.coraldebilbao.com
SUMMARY:ESKOLAN KANTARI | BBK KUNA
DESCRIPTION:
URL:https://www.coraldebilbao.com/eu/evento/ek-bbkkuna2222/
LOCATION:BBK Kuna\, Urazurrutia Kalea\, 3\,\, Bilbao\, Bizkaia\, 48003
ATTACH;FMTTYPE=image/jpeg:https://www.coraldebilbao.com/wp-content/uploads/2022/12/PROPUESTAS-2.jpg
END:VEVENT
END:VCALENDAR