BEGIN:VCALENDAR
VERSION:2.0
PRODID:-//Bilboko Koral Elkartea - ECPv5.3.2.1//NONSGML v1.0//EN
CALSCALE:GREGORIAN
METHOD:PUBLISH
X-WR-CALNAME:Bilboko Koral Elkartea
X-ORIGINAL-URL:https://www.coraldebilbao.com/eu/
X-WR-CALDESC:Events for Bilboko Koral Elkartea
BEGIN:VTIMEZONE
TZID:Europe/Madrid
BEGIN:DAYLIGHT
TZOFFSETFROM:+0100
TZOFFSETTO:+0200
TZNAME:CEST
DTSTART:20220327T010000
END:DAYLIGHT
BEGIN:STANDARD
TZOFFSETFROM:+0200
TZOFFSETTO:+0100
TZNAME:CET
DTSTART:20221030T010000
END:STANDARD
END:VTIMEZONE
BEGIN:VEVENT
DTSTART;TZID=Europe/Madrid:20221217T113000
DTEND;TZID=Europe/Madrid:20221217T123000
DTSTAMP:20260422T101440
CREATED:20221101T160559Z
LAST-MODIFIED:20221213T134458Z
UID:22726-1671276600-1671280200@www.coraldebilbao.com
SUMMARY:GABONAK | JESÚS GURIDI ORKESTRA
DESCRIPTION:
URL:https://www.coraldebilbao.com/eu/evento/jesusguridi-gabonak22/
LOCATION:Capilla de la Santa y Real Casa de Misericordia de Bilbao\, Sabino Arana Etorbidea\, 2\, Bilbao\, 48013
END:VEVENT
END:VCALENDAR