BEGIN:VCALENDAR
VERSION:2.0
PRODID:-//Bilboko Koral Elkartea - ECPv5.3.2.1//NONSGML v1.0//EN
CALSCALE:GREGORIAN
METHOD:PUBLISH
X-WR-CALNAME:Bilboko Koral Elkartea
X-ORIGINAL-URL:https://www.coraldebilbao.com/eu/
X-WR-CALDESC:Events for Bilboko Koral Elkartea
BEGIN:VTIMEZONE
TZID:Europe/Madrid
BEGIN:DAYLIGHT
TZOFFSETFROM:+0100
TZOFFSETTO:+0200
TZNAME:CEST
DTSTART:20210328T010000
END:DAYLIGHT
BEGIN:STANDARD
TZOFFSETFROM:+0200
TZOFFSETTO:+0100
TZNAME:CET
DTSTART:20211031T010000
END:STANDARD
END:VTIMEZONE
BEGIN:VEVENT
DTSTART;TZID=Europe/Madrid:20211121T073000
DTEND;TZID=Europe/Madrid:20211121T203000
DTSTAMP:20260424T081202
CREATED:20211001T072502Z
LAST-MODIFIED:20211105T083244Z
UID:21689-1637479800-1637526600@www.coraldebilbao.com
SUMMARY:ORGANO GAUA 2021
DESCRIPTION:Organoaren eta elektronikaren arteko elkarrizketa tradizioa eta berrikuntza bat egiten dituen proposamen artistikoa. Hasteko\, estilo klasikoari helduko dio\, eta\, in crescendo\, Euskalduna Jauregiko instrumentu bikainaren aukera guztiei musika elektronikoaren indarra gehituko zaio.  Sorkuntza-lan klasiko eta modernoen gaineko hainbat ikuspegi\, Markina\, Bilbo eta Gernikako musikari bizkaitarrekin. \nMikel Ansola | organoa \nPreludioa eta Fuga BWV 541 Sol maiorrean\, Johann Sebastian Bach \nSarrera eta Pasakaglia re minorrean\, Max Reger \nIñigo de Peque | organoa \nPieza sinfonikoa\, José María Usandizaga \nFantasiaren ihesa eta organorako ihesa Ad nos\, ad salutarem undam\, Franz Liszt gainean \n+ Aitor Etxebarria | Musika elektronikoa \nOrganorako kontzertua BWV 593 adingabean (Antonio Vivaldi RV 522 biolinentzako kontzertuaren transkripzioa)\, Johann Sebastian Bach – Iñigo de Peque \nJesus Guridiren bariazioak euskal gai bati buruz – Mikel Ansola
URL:https://www.coraldebilbao.com/eu/evento/organogaua-2021/
LOCATION:Palacio Euskalduna\,  Avda. Abandoibarra\, 4\, Bilbao\, 48011
END:VEVENT
END:VCALENDAR